BEGIN:VCALENDAR
VERSION:2.0
PRODID:-//urwahl3000//gruene-unterhaching.de//DE
CALSCALE:GREGORIAN
BEGIN:VEVENT
DTSTART:20190213T090000
DTEND:20190213T160000
LOCATION:Rathaus Unterhaching
DTSTAMP:20190213T090000
SUMMARY:Ende des Volksbegehrens „Artenvielfalt“
URL;VALUE=URI:https://gruene-unterhaching.de/termin/ende-des-volksbegehrens-artenvielfalt/
DESCRIPTION:Mehr Infos <a href="https://gruene-unterhaching.de/2018/12/05/1739/">hier</a>.
UID:20190213T090000-20190213T090000-20190213T160000
END:VEVENT
END:VCALENDAR