BEGIN:VCALENDAR
VERSION:2.0
PRODID:-//urwahl3000//gruene-unterhaching.de//DE
CALSCALE:GREGORIAN
BEGIN:VEVENT
DTSTART:20230429T120000
DTEND:20230429T120000
LOCATION: 
DTSTAMP:20230429T120000
SUMMARY:Besichtigung einer Windkraftanlage in Fürstenfeldbruck
URL;VALUE=URI:https://gruene-unterhaching.de/termin/besichtigung-einer-windkraftanlage-in-fuerstenfeldbruck/
DESCRIPTION:<a href="https://gruene-unterhaching.de/2023/04/03/zeit-dass-sich-was-dreht-gruener-ortsverband-laedt-zur-besichtigung-einer-windkraftanlage/">zum Bericht</a>
UID:20230429T120000-20230429T120000-20230429T120000
END:VEVENT
END:VCALENDAR