BEGIN:VCALENDAR
VERSION:2.0
PRODID:-//urwahl3000//gruene-unterhaching.de//DE
CALSCALE:GREGORIAN
BEGIN:VEVENT
DTSTART:20221021T190000
DTEND:20221021T213000
LOCATION:Kinderhaus Plus\, Hans-Durach-Straße 17\, 2. Stock\, Großer Saal Raum 2.30 Unterhaching
DTSTAMP:20221021T190000
SUMMARY:Hybrides Treffen des Arbeitskreises „Klima und Energie“
URL;VALUE=URI:https://gruene-unterhaching.de/termin/arbeitskreis-klima-und-energie-2/
DESCRIPTION:Wir berichten dieses Mal von unserem Besuch in Pfaffenhofen. Wir haben viele Anregungen bekommen im Bereich klimafreundliche Landwirtschaft, Öffentlichkeitsarbeit, Politik, Energiegewinnung und Bauen.

Alle Interessierten sind herzlich eingeladen teilzunehmen, vor Ort im „Kinderhaus Plus“ oder online. Weitere Informationen für das Arbeitskreistreffen – z.B. den Online-Link – gibt es bei <a class="moz-txt-link-freetext" href="mailto:gabi.scheithauer@gruene-unterhaching.de">gabi.scheithauer@gruene-unterhaching.de</a>

Weitere Infos gibt es unter <a class="moz-txt-link-freetext" href="https://gruene-unterhaching.de/ak-klima-und-energie/">https://gruene-unterhaching.de/ak-klima-und-energie/</a>

 
UID:20221021T190000-20221021T190000-20221021T213000
END:VEVENT
END:VCALENDAR