BEGIN:VCALENDAR
VERSION:2.0
PRODID:-//urwahl3000//gruene-unterhaching.de//DE
CALSCALE:GREGORIAN
BEGIN:VEVENT
DTSTART:20190812T170000
DTEND:20190812T210000
LOCATION: Unterhaching
DTSTAMP:20190812T170000
SUMMARY:Wanderung am Hachinger Bach
URL;VALUE=URI:https://gruene-unterhaching.de/termin/wanderung-am-hachinger-bach-2/
DESCRIPTION:<div class="picwrap">

Gemeinderätin und Bund Naturschutz-Mitglied Gertraud Schubert führt diesmal wieder bachabwärts über Unterbiberg, Altperlach und Berg am Laim bis zur Karwendelstraße (Josephsburg).

Treffpunkt ist an der Kreuzung Ottobrunner-/Hauptstraße, direkt am Bach.

Fahrräder können nicht mitgenommen werden, da es eine Stelle gibt, die für Fahrräder nicht passierbar ist. Teilnahme auf eigene Gefahr. Haftung kann nicht übernommen werden.

Am Ende der Wanderung besteht die Möglichkeit zur Einkehr und einem gemütlichen Beisammensitzen im Biergarten. Den Rückweg tritt jeder für sich alleine an. Wir empfehlen: die U-Bahn nach Neuperlach und von dort mit dem Bus 217 nach Unterhaching.

</div>
<div class="clearfix"></div>
UID:20190812T170000-20190812T170000-20190812T210000
END:VEVENT
END:VCALENDAR