BEGIN:VCALENDAR
VERSION:2.0
PRODID:-//urwahl3000//gruene-unterhaching.de//DE
CALSCALE:GREGORIAN
BEGIN:VEVENT
DTSTART:20180719T193000
DTEND:20180719T193000
LOCATION:Gasthof zur Post am Kirchplatz Haar
DTSTAMP:20180719T193000
SUMMARY:Wahlkampfauftakt mit Claudia Köhler – Thema „Pflege in Not“
URL;VALUE=URI:https://gruene-unterhaching.de/termin/wahlkampfauftakt-mit-claudia-koehler-thema-pflege-in-not/
DESCRIPTION:Vorankündigung: Für den 19. Juli plant der Ortsverband Haar die Startveranstaltung zum Landtagswahlkampf mit der grünen Direktkandidatin im Landkreis München-Nord, <a href="https://claudiakoehler.fuer-die-gruenen.de/">Claudia Köhler</a>.
UID:20180719T193000-20180719T193000-20180719T193000
END:VEVENT
END:VCALENDAR