BEGIN:VCALENDAR
VERSION:2.0
PRODID:-//urwahl3000//gruene-unterhaching.de//DE
CALSCALE:GREGORIAN
BEGIN:VEVENT
DTSTART:20200303T190000
DTEND:20200303T190000
LOCATION: Fa.Heiland\, Gauss Allee 1\, Ostseite Stadion
DTSTAMP:20200303T190000
SUMMARY:Unterhaching diskutiert am Feierabend
URL;VALUE=URI:https://gruene-unterhaching.de/termin/unterhaching-diskutiert-am-feierabend/
DESCRIPTION:Das Thema ist diesmal ökologisches und nachhaltiges Bauen und Wohnen.
Interessierte sind eingeladen, ein neues Gebäude zu besichtigen, das unter nachhaltigen Gesichtspunkten gebaut wurde, mit ökologischen Materialien und energieeffizient.

Treffpunkt ist um 19:00 Uhr bei der Firma Heiland, Gauss Allee 1, Ostseite Stadion, Unterhaching.
UID:20200303T190000-20200303T190000-20200303T190000
END:VEVENT
END:VCALENDAR