BEGIN:VCALENDAR
VERSION:2.0
PRODID:-//urwahl3000//gruene-unterhaching.de//DE
CALSCALE:GREGORIAN
BEGIN:VEVENT
DTSTART:20180609T100000
DTEND:20180609T100000
LOCATION: 
DTSTAMP:20180609T100000
SUMMARY:Umwelttag – 20 Jahre Landschaftspark
URL;VALUE=URI:https://gruene-unterhaching.de/termin/umwelttag-der-gemeinde-unterhaching/
DESCRIPTION:Der Umwelttag der Gemeinde findet statt im Landschaftspark am Samstag, 9.6.2018 von 10:00 - 16:00 Uhr (Ausweichtermin: 16.6.2018)

Geboten wird u.a. ein Radparcours, eine Führung am Bach und viele andere Aktionen, besonders auch für Kinder und Jugendliche. Mehr dazu auf der <a href="https://www.unterhaching.de/unterhaching/web.nsf/id/pa_de_landschaftspark.html" target="_blank" rel="noopener">Homepage der Gemeinde</a>.
UID:20180609T100000-20180609T100000-20180609T100000
END:VEVENT
END:VCALENDAR