BEGIN:VCALENDAR
VERSION:2.0
PRODID:-//urwahl3000//gruene-unterhaching.de//DE
CALSCALE:GREGORIAN
BEGIN:VEVENT
DTSTART:20190324T160000
DTEND:20190324T160000
LOCATION:Krautgarten  
DTSTAMP:20190324T160000
SUMMARY:Tag- und-Nachtgleiche-Feuer Krautgarten
URL;VALUE=URI:https://gruene-unterhaching.de/termin/tag-und-nachtgleiche-krautgarten/
DESCRIPTION:Am Sonntag, 24. März 2019 ab 16 Uhr Treff im Krautgarten zum Besprechen, Arbeiten und zum Feiern der Frühlings-Tag-und-Nachtgleiche mit einem kleinen Feuer.

Bitte bringt wie gewohnt Essen, Getränke und Geschirr selber mit.
UID:20190324T160000-20190324T160000-20190324T160000
END:VEVENT
END:VCALENDAR