BEGIN:VCALENDAR
VERSION:2.0
PRODID:-//urwahl3000//gruene-unterhaching.de//DE
CALSCALE:GREGORIAN
BEGIN:VEVENT
DTSTART:20170625T110000
DTEND:20170625T110000
LOCATION:Grüner Krautgarten am Ende des Finsinger Wegs Unterhaching
DTSTAMP:20170625T110000
SUMMARY:Tag der offenen Gartentür im grünen Krautgarten
URL;VALUE=URI:https://gruene-unterhaching.de/termin/tag-der-offenen-gartentuer/
DESCRIPTION:Am Sonntag, den 25. Juni können in ganz Oberbayern private Gärten besucht werden. Die Unterhachinger Grünen beteiligen sich mit ihrem Krautgarten, der von 11.00 – 16.00 Uhr bewundert werden kann. Momentan grünt, wächst und blüht es im Garten, der von fleißigen GartlerInnen gemeinsam beackert und beerntet wird. Aufgrund des großen Erfolgs im ersten Jahr wird heuer die doppelte Fläche bewirtschaftet. Auch die selbst gebastelten Frühbeete sowie die neuen Bewohner des Krautgartens, die Bienen des Imkers Hannes Fagner, können dann bestaunt werden.
UID:20170625T110000-20170625T110000-20170625T110000
END:VEVENT
END:VCALENDAR