BEGIN:VCALENDAR
VERSION:2.0
PRODID:-//urwahl3000//gruene-unterhaching.de//DE
CALSCALE:GREGORIAN
BEGIN:VEVENT
DTSTART:20190719T233000
DTEND:20190719T233000
LOCATION: 
DTSTAMP:20190719T233000
SUMMARY:Stadtradeln Ende
URL;VALUE=URI:https://gruene-unterhaching.de/termin/stadtradeln-ende/
UID:20190719T233000-20190719T233000-20190719T233000
END:VEVENT
END:VCALENDAR