BEGIN:VCALENDAR
VERSION:2.0
PRODID:-//urwahl3000//gruene-unterhaching.de//DE
CALSCALE:GREGORIAN
BEGIN:VEVENT
DTSTART:20190629T000000
DTEND:20190719T233000
LOCATION: 
DTSTAMP:20190629T000000
SUMMARY:Stadtradeln 2019
URL;VALUE=URI:https://gruene-unterhaching.de/termin/stadtradeln-2019/
DESCRIPTION:Von Samstag, 29. Juni bis einschließlich Freitag, 19. Juli 2019 heißt es wieder:  Mitmachen beim Stadtradeln!
<div class="page" title="Page 1">
<div class="section">
<div class="layoutArea">
<div class="column">

Start der dreiwöchigen STADTRADELN-Kampagne ist am Samstag, 29. Juni um 10 h am Rathausplatz in Unterhaching, um gemeinsam zur zentralen Auftaktveranstaltung zum EBERMUC-Festival in Hamberg, Alxing (Landkreis Ebersberg) zu radeln.  (Für eine Teilstrecke werden öffentliche Verkehrsmittel genutzt.)

Zu Beginn gibt es von der Gemeinde Unterhaching ein Teilnahmegeschenk und Smoothies für die Radler*innen.

</div>
</div>
</div>
</div>
UID:20190629T000000-20190629T000000-20190719T233000
END:VEVENT
END:VCALENDAR