BEGIN:VCALENDAR
VERSION:2.0
PRODID:-//urwahl3000//gruene-unterhaching.de//DE
CALSCALE:GREGORIAN
BEGIN:VEVENT
DTSTART:20190407T113000
DTEND:20190407T113000
LOCATION: 
DTSTAMP:20190407T113000
SUMMARY:Radsternfahrt des ADFC
URL;VALUE=URI:https://gruene-unterhaching.de/termin/radsternfahrt-des-adfc/
DESCRIPTION:Am Sonntag, 7. April startet der ADFC eine Radsternfahrt mit 20 Zubringertouren aus der Metropolregion München. Die Unterhachinger Teilnehmenden treffen sich um 11:35 Uhr am Bahnhof Unterhaching, Unterführung Westseite.

Nähere Informationen zur Sternfahrt: <a href="https://www.adfc-muenchen.de/sternfahrt" target="_blank" rel="noopener noreferrer">ADFC München Sternfahrt</a>
UID:20190407T113000-20190407T113000-20190407T113000
END:VEVENT
END:VCALENDAR