BEGIN:VCALENDAR
VERSION:2.0
PRODID:-//urwahl3000//gruene-unterhaching.de//DE
CALSCALE:GREGORIAN
BEGIN:VEVENT
DTSTART:20190831T140000
DTEND:20190831T140000
LOCATION:Rathausplatz  Unterhaching
DTSTAMP:20190831T140000
SUMMARY:Politische Radltour mit Armin Konetschny
URL;VALUE=URI:https://gruene-unterhaching.de/termin/politische-radltour-mit-armin-konetschny/
DESCRIPTION:„Lassen Sie uns reden! Lernen Sie mich kennen!“, bietet der Bürgermeisterkandidat der Unterhachinger Grünen Armin Konetschny an. Der 56-jährige Projektmanager lädt am Samstag, 31. August zu einer Radltour zu Fahrrad-Brennpunkten in Unterhaching. Start ist um 14.00 Uhr am Rathausplatz.

„In Unterhaching gibt es noch richtig viel zu tun, um eine fahrradfreundliche Gemeinde zu werden“, so Armin Konetschny. „Wir wollen schnell, sicher und umweltfreundlich zum Einkaufen, in die Schule und zur Arbeit kommen. Das muss politische Priorität werden.“

 
UID:20190831T140000-20190831T140000-20190831T140000
END:VEVENT
END:VCALENDAR