BEGIN:VCALENDAR
VERSION:2.0
PRODID:-//urwahl3000//gruene-unterhaching.de//DE
CALSCALE:GREGORIAN
BEGIN:VEVENT
DTSTART:20200218T190000
DTEND:20200218T220000
LOCATION: Kubiz\, Unterhaching
DTSTAMP:20200218T190000
SUMMARY:Podiumsdiskussion der Unterhachinger Bürgermeisterkandidat*innen
URL;VALUE=URI:https://gruene-unterhaching.de/termin/podiumsdiskussion-der-unterhachinger-buergermeisterkandidatinnen/
DESCRIPTION:mit
<ul>
 	<li>Armin Konetschny (Grüne)</li>
 	<li>Wolfgang Panzer (SPD)</li>
 	<li>Renate Fichtinger (CSU)</li>
 	<li>Peter Hupfauer (FDP)</li>
 	<li>Julia Mittermeier (Freie Wähler)</li>
</ul>
UID:20200218T190000-20200218T190000-20200218T220000
END:VEVENT
END:VCALENDAR