BEGIN:VCALENDAR
VERSION:2.0
PRODID:-//urwahl3000//gruene-unterhaching.de//DE
CALSCALE:GREGORIAN
BEGIN:VEVENT
DTSTART:20190920T170000
DTEND:20190920T170000
LOCATION:Hauptstraße am Bahnhof Unterhaching
DTSTAMP:20190920T170000
SUMMARY:Parking-Day
URL;VALUE=URI:https://gruene-unterhaching.de/termin/parking-day/
DESCRIPTION:Parallel zur Vorstellung ihres Antrags zum Klimanotstand in Unterhaching feiern die Grünen ab 17.00 Uhr den Internationalen Parking Day. Einen Nachmittag lang soll aufgezeigt werden, wieviel öffentlicher Raum von Autos beansprucht wird, und wie eine alternative Nutzung aussehen könnte. In der Hauptstraße am Bahnhof werden deshalb zwei Parkplätze für gemütliches Ratschen, Ausruhen, Kickern, gemeinsames Spielen und ein (alkoholfreies) Feierabendbier reserviert. Natürlich haben die Grünen auch wieder Kostproben des begehrten Honigs aus dem Krautgarten im Gepäck.
UID:20190920T170000-20190920T170000-20190920T170000
END:VEVENT
END:VCALENDAR