BEGIN:VCALENDAR
VERSION:2.0
PRODID:-//urwahl3000//gruene-unterhaching.de//DE
CALSCALE:GREGORIAN
BEGIN:VEVENT
DTSTART:20170703T193000
DTEND:20170703T193000
LOCATION:Rathaus\, Kleiner Sitzungssaal Unterhaching
DTSTAMP:20170703T193000
SUMMARY:Ortsversammlung
URL;VALUE=URI:https://gruene-unterhaching.de/termin/ortsversammlung/
DESCRIPTION:<strong><u>Tagesordnung</u></strong>

TOP 1)             Bericht aus dem Gemeinderat / Fragen an die GemeinderätInnen
TOP 2)             Nachlese Veranstaltungen (Vortrag Wasser, Radltour mit Anna)
TOP 3)             Bericht Krautgarten
TOP 4)             Wahlkampf Bundestag (Zeitung / eigener Teil?, Material, Verteilung,
Infostände mit Erneuer-Bar, Veranstaltungen)
TOP 5)             Stadtradeln
TOP 6)             Veranstaltungen demnächst (Sternfahrt, Klamottentauschparty, Refugio)
TOP 7)             Nachhaltiges Bauen in Unterhaching
TOP 8)             Sonstiges und Termine (u.a. neue OV-Termine)
UID:20170703T193000-20170703T193000-20170703T193000
END:VEVENT
END:VCALENDAR