BEGIN:VCALENDAR
VERSION:2.0
PRODID:-//urwahl3000//gruene-unterhaching.de//DE
CALSCALE:GREGORIAN
BEGIN:VEVENT
DTSTART:20180613T193000
DTEND:20180613T193000
LOCATION:Rathaus\, Kleiner Sitzungssaal 
DTSTAMP:20180613T193000
SUMMARY:Ortsversammlung mit Vorstandswahl
URL;VALUE=URI:https://gruene-unterhaching.de/termin/ortsversammlung-mit-vorstandswahl/
DESCRIPTION:Rathaus, Kleiner Sitzungssaal

Auf der Tagesordnung stehen neben den turnusmäßigen Neuwahlen des Vorstands der Bericht aus dem Gemeinderat, die Planung des Landtagswahlkampfs und das Jubiläum 35 Jahre Grüne Unterhaching.

<a href="https://gruene-unterhaching.de/wp-content/uploads/sites/21/2018/05/Einladung-juni-18.pdf" rel="noopener" target="_blank">Zur Tagesordnung</a>

UID:20180613T193000-20180613T193000-20180613T193000
END:VEVENT
END:VCALENDAR