BEGIN:VCALENDAR
VERSION:2.0
PRODID:-//urwahl3000//gruene-unterhaching.de//DE
CALSCALE:GREGORIAN
BEGIN:VEVENT
DTSTART:20220704T193000
DTEND:20220704T213000
LOCATION:Rathaus\, Großer Sitzungssaal Unterhaching
DTSTAMP:20220704T193000
SUMMARY:Ortsversammlung mit Vorstandswahl
URL;VALUE=URI:https://gruene-unterhaching.de/termin/ortsversammlung-mit-vorstandswahl-2/
UID:20220704T193000-20220704T193000-20220704T213000
END:VEVENT
END:VCALENDAR