BEGIN:VCALENDAR
VERSION:2.0
PRODID:-//urwahl3000//gruene-unterhaching.de//DE
CALSCALE:GREGORIAN
BEGIN:VEVENT
DTSTART:20190130T193000
DTEND:20190130T213000
LOCATION:Rathaus\, kleiner Sitzungssaal Unterhaching
DTSTAMP:20190130T193000
SUMMARY:Ortsversammlung
URL;VALUE=URI:https://gruene-unterhaching.de/termin/ortsversammlung-8/
DESCRIPTION:Themen u.a.:
<ul>
 	<li>Europawahl</li>
 	<li>geplante Veranstaltungen 2019</li>
 	<li>Aktuelles aus der Kommunalpolitik</li>
</ul>
UID:20190130T193000-20190130T193000-20190130T213000
END:VEVENT
END:VCALENDAR