BEGIN:VCALENDAR
VERSION:2.0
PRODID:-//urwahl3000//gruene-unterhaching.de//DE
CALSCALE:GREGORIAN
BEGIN:VEVENT
DTSTART:20171129T193000
DTEND:20171129T193000
LOCATION: 
DTSTAMP:20171129T193000
SUMMARY:Ortsversammlung
URL;VALUE=URI:https://gruene-unterhaching.de/termin/ortsversammlung-3/
DESCRIPTION:Tagesordnung

1) Bericht aus dem Gemeinderat / Fragen an die GemeinderätInnen
2) Finanzen: Änderung der Prüfung (Ingrid)
3) Kurznachlese neue Orga Klamottentauschparty, Campact, Bauversammlung
4) Volksbegehren, Betonflut, BUND
5) Aktionen nach der Jugendversammlung Unterhaching
6) Situation nach der BTW
7) Sonstiges (u.a. nächste OV mit Thema „Glyphosat“?)
UID:20171129T193000-20171129T193000-20171129T193000
END:VEVENT
END:VCALENDAR