BEGIN:VCALENDAR
VERSION:2.0
PRODID:-//urwahl3000//gruene-unterhaching.de//DE
CALSCALE:GREGORIAN
BEGIN:VEVENT
DTSTART:20260113T190000
DTEND:20251213T210000
LOCATION:"Schlossallee"\, Parkstraße 9 Unterhachnig
DTSTAMP:20260113T190000
SUMMARY:Ortsversammlung
URL;VALUE=URI:https://gruene-unterhaching.de/termin/ortsversammlung-29/
UID:20260113T190000-20260113T190000-20251213T210000
END:VEVENT
END:VCALENDAR