BEGIN:VCALENDAR
VERSION:2.0
PRODID:-//urwahl3000//gruene-unterhaching.de//DE
CALSCALE:GREGORIAN
BEGIN:VEVENT
DTSTART:20251009T190000
DTEND:20251009T190000
LOCATION:Rathaus\, großer Sitzungssaal Unterhaching
DTSTAMP:20251009T190000
SUMMARY:Ortsversammlung
URL;VALUE=URI:https://gruene-unterhaching.de/termin/ortsversammlung-27/
DESCRIPTION:Ortsversammlung mit Aufstellung der Grünen Gemeinderatsliste für die Kommunalwahl am 08.03.2026. Die Sitzungsleitung übernimmt Christoph Nadler, Fraktionsvorsitzender im Kreistag
und stellv. Landrat
UID:20251009T190000-20251009T190000-20251009T190000
END:VEVENT
END:VCALENDAR