BEGIN:VCALENDAR
VERSION:2.0
PRODID:-//urwahl3000//gruene-unterhaching.de//DE
CALSCALE:GREGORIAN
BEGIN:VEVENT
DTSTART:20250429T190000
DTEND:20250429T210000
LOCATION:Schlossallee im Fasanenpark - Parkstraße 9 Unterhaching
DTSTAMP:20250429T190000
SUMMARY:Ortsversammlung / Grüner Austausch
URL;VALUE=URI:https://gruene-unterhaching.de/termin/ortsversammlung-25/
DESCRIPTION:Ortsversammlung / Grüner Austausch,

Dienstag, 29. April um 19:00 Uhr,

Wir treffen uns in der Schlossallee im Fasanenpark - Parkstraße 9. 
Nähere Informationen zur Location findet ihr hier: <a href="https://buerograndezza.org/schlossallee/">https://buerograndezza.org/schlossallee/</a>

Dort können wir in gemütlicher Runde zusammensitzen und uns besser kennenlernen. Bringt bitte ein bisschen Knabberzeug / Fingerfood mit, Getränke sind gegen Spende vorhanden!

Es gibt keine Agenda und keine Beschlüsse. Dafür könnt ihr euch schon einmal den 22. Mai vormerken, den Termin für unsere nächste Ortsversammlung! 

Wir freuen uns sehr auf euch! 
UID:20250429T190000-20250429T190000-20250429T210000
END:VEVENT
END:VCALENDAR