BEGIN:VCALENDAR
VERSION:2.0
PRODID:-//urwahl3000//gruene-unterhaching.de//DE
CALSCALE:GREGORIAN
BEGIN:VEVENT
DTSTART:20250623T190000
DTEND:20250623T210000
LOCATION:Rathaus\, großer Sitzungssaal\; Eingang bei der roten Telefonzelle Unterhaching
DTSTAMP:20250623T190000
SUMMARY:Ortsversammlung
URL;VALUE=URI:https://gruene-unterhaching.de/termin/ortsversammlung-24/
DESCRIPTION:<h3>Künstliche Intelligenz und Bürgerdialog</h3>
Die Unterhachinger Grünen laden zur öffentlichen Ortsversammlung <strong>am Montag, 23.6. um 19.00</strong> Uhr ins Rathaus Unterhaching (Eingang bei der roten Telefonzelle).

Auf alle Interessierten wartet ein Vortrag zu Künstlicher Intelligenz sowie die Möglichkeit, Fragen an die Gemeinderätinnen und Gemeinderäte zu stellen.

„Wir wollen ins Gespräch kommen, hören, wo der Schuh drückt“, so die Ortsvorsitzende und Zweite Bürgermeisterin Johanna Zapf. „Manche Herausforderungen sind anstrengend, aber miteinander werden wir Lösungen auf den Weg bringen.“ Zapf kündigt auch ein neues Format zum Dialog mit den Bürgerinnen und Bürgern an: <strong>„Triff Johanna</strong>“.

Eine Anmeldung zur Ortsversammlung ist nicht notwendig.
UID:20250623T190000-20250623T190000-20250623T210000
END:VEVENT
END:VCALENDAR