BEGIN:VCALENDAR
VERSION:2.0
PRODID:-//urwahl3000//gruene-unterhaching.de//DE
CALSCALE:GREGORIAN
BEGIN:VEVENT
DTSTART:20240409T190000
DTEND:20240409T213000
LOCATION:Rathaus\, Großer Spiegelsaal im UG Unterhaching
DTSTAMP:20240409T190000
SUMMARY:Ortsversammlung
URL;VALUE=URI:https://gruene-unterhaching.de/termin/ortsversammlung-21/
DESCRIPTION:Liebe Grüne in Unterhaching, liebe Interessierte,

Wie bereits vorangekündigt, möchten wir Euch herzlich zu unserer nächsten OV am Dienstag, 9. April um 19:00 Uhr mit dem bayerischen Spitzenkandidaten Max Retzer im Rathaus Unterhaching einladen.

Wichtig: Wir treffen uns dieses Mal im Spiegelsaal. Diesen findet ihr über den Eingang bei der roten Telefonzelle, dann ins UG, geradeaus durch die Tür und dann rechts.

Bringt gerne eure Freund*innen und Bekannten mit. Wir freuen uns auf den Austausch mit euch.
UID:20240409T190000-20240409T190000-20240409T213000
END:VEVENT
END:VCALENDAR