BEGIN:VCALENDAR
VERSION:2.0
PRODID:-//urwahl3000//gruene-unterhaching.de//DE
CALSCALE:GREGORIAN
BEGIN:VEVENT
DTSTART:20230515T190000
DTEND:20230515T213000
LOCATION:Rathaus\, Großer Sitzungssaal Unterhaching
DTSTAMP:20230515T190000
SUMMARY:Ortsversammlung mit Impulsvortrag: Haustürwahlkampf
URL;VALUE=URI:https://gruene-unterhaching.de/termin/ortsversammlung-19/
UID:20230515T190000-20230515T190000-20230515T213000
END:VEVENT
END:VCALENDAR