BEGIN:VCALENDAR
VERSION:2.0
PRODID:-//urwahl3000//gruene-unterhaching.de//DE
CALSCALE:GREGORIAN
BEGIN:VEVENT
DTSTART:20200630T193000
DTEND:20200630T213000
LOCATION:Online 
DTSTAMP:20200630T193000
SUMMARY:Ortsversammlung
URL;VALUE=URI:https://gruene-unterhaching.de/termin/ortsversammlung-16/
DESCRIPTION:Tagesordnung

TOP 1) Bericht aus dem Gemeinderat (Fraktion)
TOP 2) Bericht aus dem Kreistag (Evi und Claudia)
TOP 3) Arbeitskreise
TOP 4) Bericht Veranstaltung Kinder – Familien – Home Office
TOP 5) Weitere Veranstaltung?
TOP 6) Sonstiges (Stadtradeln)
UID:20200630T193000-20200630T193000-20200630T213000
END:VEVENT
END:VCALENDAR