BEGIN:VCALENDAR
VERSION:2.0
PRODID:-//urwahl3000//gruene-unterhaching.de//DE
CALSCALE:GREGORIAN
BEGIN:VEVENT
DTSTART:20200316T193000
DTEND:20200316T193000
LOCATION:Gasthaus Althaching 
DTSTAMP:20200316T193000
SUMMARY:Ortsversammlung im Gasthaus Althaching
URL;VALUE=URI:https://gruene-unterhaching.de/termin/ortsversammlung-16-3/
DESCRIPTION:Achtung Ortsänderung: die OV findet jetzt <strong>im Gasthaus Althaching</strong> statt.

Einziger Tagesordnungspunkt ist die Abstimmung des weiteren Vorgehens nach der Wahl, gegebenenfalls vor einer Stichwahl (Landkreis oder/und Unterhaching) – evt. mit Beschluss.
UID:20200316T193000-20200316T193000-20200316T193000
END:VEVENT
END:VCALENDAR