BEGIN:VCALENDAR
VERSION:2.0
PRODID:-//urwahl3000//gruene-unterhaching.de//DE
CALSCALE:GREGORIAN
BEGIN:VEVENT
DTSTART:20190926T193000
DTEND:20190926T220000
LOCATION:Rathaus Kleiner Sitzungssaal Unterhaching
DTSTAMP:20190926T193000
SUMMARY:Ortsversammlung
URL;VALUE=URI:https://gruene-unterhaching.de/termin/ortsversammlung-12/
DESCRIPTION:<div>

Aus gegebenem Anlass wird über die von Neubiberg geplante Bebauung der Frischluftschneise im Grünzug Hachinger Tal (Kapellenfeld am Zwergerweg) sowie über den ökologischen Wert des Landschaftsparks diskutiert. Zudem werden die Veranstaltungen im Herbst sowie die Wahlkampfplanung für die Kommunalwahl 2020 besprochen.

„Wer hätte gedacht, dass wir einmal über die anerkannt wichtige Schneise für Frischluft aus dem Alpenraum diskutieren müssen?“, so die Sprecher*innen Stefan König und Claudia Köhler. Der Grüne Bürgermeisterkandidat Armin Konetschny: „Es scheint, dass Flächensparen und die Gesundheit der Menschen nur in Sonntagsreden wichtig sind. Wir Grüne werden um den Erhalt des Grünzuges kämpfen.“

</div>
<div id="magicdomid7" class=""><span class="b u"><b><u>Tagesordnung</u></b></span></div>
<ul>
 	<li id="magicdomid8"><span class="">Bericht aus dem Gemeinderat / Fragen an die GemeinderätInnen</span></li>
 	<li id="magicdomid9"><span class="">Nachlese Veranstaltung 20.9. Klima, Radltour und Sprechstunde Armin</span></li>
 	<li id="magicdomid10"><span class="">Kommende Veranstaltungen, Wahlprogramm, Budget und Fahrplan, Social </span><span class="">Media und Kommunikationsstrategie zur </span><span class="">Kommunalwahl</span></li>
 	<li id="magicdomid13"><span class="">Landschaftspark (Antrag Badesee)</span></li>
 	<li id="magicdomid14"><span class="author-p-18987">Frischluftschneise Hachinger Tal, Bebauung durch Neubiberg</span></li>
 	<li id="magicdomid15"><span class="">Klamottentauschparty</span></li>
 	<li id="magicdomid16"><span class="">Kreisverband und Listenaufstellung</span></li>
</ul>
UID:20190926T193000-20190926T193000-20190926T220000
END:VEVENT
END:VCALENDAR