BEGIN:VCALENDAR
VERSION:2.0
PRODID:-//urwahl3000//gruene-unterhaching.de//DE
CALSCALE:GREGORIAN
BEGIN:VEVENT
DTSTART:20190627T193000
DTEND:20190627T213000
LOCATION:Kleiner Sitzungssaal\, Rathaus Unterhaching
DTSTAMP:20190627T193000
SUMMARY:Ortsversammlung mit Wahl und Aufstellungsversammlung BM-Kandidat*in
URL;VALUE=URI:https://gruene-unterhaching.de/termin/ortsversammlung-11/
DESCRIPTION:Die GRÜNEN Unterhaching laden ein zur Ortsversammlung mit Vorstandswahl und Aufstellung einer/s Kandidat*in/en für die Wahl zur/m ersten Bürgermeister*in bei der Kommunalwahl 2020:
<div class="page" title="Page 1">
<div class="section">
<div class="layoutArea">
<div class="column">

Um 19.30 Uhr stehen Kurzberichte des Vorstands und Neuwahlen Vorstand (Sprecher*innen, Beisitzer*innen, Schatzmeister*in) auf der Tagesordnung. Unser Vorsitzender im Kreisverband München-Land, Dr. Volker Leib, wird die Vorstandswahlen und die Wahlversammlung leiten.

</div>
</div>
<div class="layoutArea">
<div class="column">

Anschließend ab 20.00 Uhr findet die Aufstellungsversammlung zur Wahl einer/s Kandidat*in/en für die Wahl zur/zum ersten Bürgermeister*in in Unterhaching am 15. März 2020 statt.

Am Ende beider Versammlungen besteht die Möglichkeit für Diskussionen und Terminabsprachen.

</div>
</div>
</div>
</div>
 

 

 
UID:20190627T193000-20190627T193000-20190627T213000
END:VEVENT
END:VCALENDAR