BEGIN:VCALENDAR
VERSION:2.0
PRODID:-//urwahl3000//gruene-unterhaching.de//DE
CALSCALE:GREGORIAN
BEGIN:VEVENT
DTSTART:20210630T190000
DTEND:20210630T213000
LOCATION: Internet
DTSTAMP:20210630T190000
SUMMARY:Online Ortsversammlung
URL;VALUE=URI:https://gruene-unterhaching.de/termin/online-ortsversammlung/
DESCRIPTION:Einladung zur Ortsversammlung am Mittwoch, 30.6.21 um 19.00 Uhr per Videokonferenz                        


Tagesordnung

TOP 1) Bericht aus dem Gemeinderat und Kreistag - Fraktion
TOP 2) Bericht aus den AKs: Klima (Gabi), Soziales (Jenny), Bauen (Steff)
TOP 3) Veranstaltungen demnächst und News vom Bundestagswahlkampf (Erstwahlbriefe, Infostände,
       Plakatierung, Haustürwahlkampf, Spaziergang/Radltour zu Bundesthemen?)
TOP 4) Radschnellverbindung Landkreis – Bericht vom Vernetzungstreffen (Til)
TOP 5) Stadtradeln (Til)
TOP 6) Sonstiges



Nehmen Sie an meinem Meeting per Computer, Tablet oder Smartphone teil.
https://global.gotomeeting.com/install/834469941

Sie können sich auch über ein Telefon einwählen.
Deutschland: +49 892 0194 301

Zugangscode: 834-469-941 
UID:20210630T190000-20210630T190000-20210630T213000
END:VEVENT
END:VCALENDAR