BEGIN:VCALENDAR
VERSION:2.0
PRODID:-//urwahl3000//gruene-unterhaching.de//DE
CALSCALE:GREGORIAN
BEGIN:VEVENT
DTSTART:20200424T120000
DTEND:20200424T120000
LOCATION: 
DTSTAMP:20200424T120000
SUMMARY:Online Klimastreik
URL;VALUE=URI:https://gruene-unterhaching.de/termin/online-klimastreik/
DESCRIPTION:Wegen Corona können wir nicht auf die Straße – aber die Klimakrise duldet keinen Aufschub. <strong>Deswegen ziehen die wöchentlichen Klimademos ins Netz um.</strong>

<a href="https://www.klima-streik.org/" target="_blank" rel="noopener noreferrer">Hier geht's zur Demo-Website:</a>

<a href="https://fridaysforfuture.de/netzstreikfursklima/livestream/" target="_blank" rel="noopener noreferrer">Zur Livestream-Seite von FridaysForFuture</a>

 
UID:20200424T120000-20200424T120000-20200424T120000
END:VEVENT
END:VCALENDAR