BEGIN:VCALENDAR
VERSION:2.0
PRODID:-//urwahl3000//gruene-unterhaching.de//DE
CALSCALE:GREGORIAN
BEGIN:VEVENT
DTSTART:20190721T160000
DTEND:20190721T180000
LOCATION:Odeonsplatz München
DTSTAMP:20190721T160000
SUMMARY:Munich for future – Klima-Demo
URL;VALUE=URI:https://gruene-unterhaching.de/termin/munich-for-future-klima-demo/
DESCRIPTION:Wir fahren von Unterhaching mit der S-Bahn um 15:37 / Fasanenpark ab 15:39 und treffen uns im vorderen Zugteil.

Näheres unter <a href="https://munichforfuture.de/" target="_blank" rel="noopener noreferrer">https://munichforfuture.de</a>

 

 
UID:20190721T160000-20190721T160000-20190721T180000
END:VEVENT
END:VCALENDAR