BEGIN:VCALENDAR
VERSION:2.0
PRODID:-//urwahl3000//gruene-unterhaching.de//DE
CALSCALE:GREGORIAN
BEGIN:VEVENT
DTSTART:20171118T110000
DTEND:20171118T110000
LOCATION:Rathaus Unterhaching 
DTSTAMP:20171118T110000
SUMMARY:Kongress: Bezahlbar wohnen in lebenswerten Städten & Orten
URL;VALUE=URI:https://gruene-unterhaching.de/termin/kongress-bezahlbar-wohnen-in-lebenswerten-staedten-orten/
UID:20171118T110000-20171118T110000-20171118T110000
END:VEVENT
END:VCALENDAR