BEGIN:VCALENDAR
VERSION:2.0
PRODID:-//urwahl3000//gruene-unterhaching.de//DE
CALSCALE:GREGORIAN
BEGIN:VEVENT
DTSTART:20200315T080000
DTEND:20200315T180000
LOCATION:alle Wahllokale Unterhaching
DTSTAMP:20200315T080000
SUMMARY:Kommunalwahl
URL;VALUE=URI:https://gruene-unterhaching.de/termin/kommunalwahl/
DESCRIPTION:<strong>Achtung EU-Bürger*innen:</strong>

EU-Bürger*innen sind seit der letzten Europawahl automatisch im Wahlregister erfasst. Aber:

<strong>Wer bis Mitte Februar keine Wahlbenachrichtigung erhält, muss zum Wahlamt im Rathaus gehen, um sie zu bekommen!</strong>
UID:20200315T080000-20200315T080000-20200315T180000
END:VEVENT
END:VCALENDAR