BEGIN:VCALENDAR
VERSION:2.0
PRODID:-//urwahl3000//gruene-unterhaching.de//DE
CALSCALE:GREGORIAN
BEGIN:VEVENT
DTSTART:20171029T150000
DTEND:20171029T150000
LOCATION:Rathaus Untergeschoss Unterhaching
DTSTAMP:20171029T150000
SUMMARY:Kleidertauschparty
URL;VALUE=URI:https://gruene-unterhaching.de/termin/kleidertauschparty/
UID:20171029T150000-20171029T150000-20171029T150000
END:VEVENT
END:VCALENDAR