BEGIN:VCALENDAR
VERSION:2.0
PRODID:-//urwahl3000//gruene-unterhaching.de//DE
CALSCALE:GREGORIAN
BEGIN:VEVENT
DTSTART:20170319T150000
DTEND:20170319T150000
LOCATION:Rathaus\, Untergeschoss Unterhaching
DTSTAMP:20170319T150000
SUMMARY:Klamottentauschparty
URL;VALUE=URI:https://gruene-unterhaching.de/termin/klamottentauschparty/
UID:20170319T150000-20170319T150000-20170319T150000
END:VEVENT
END:VCALENDAR