BEGIN:VCALENDAR
VERSION:2.0
PRODID:-//urwahl3000//gruene-unterhaching.de//DE
CALSCALE:GREGORIAN
BEGIN:VEVENT
DTSTART:20191124T150000
DTEND:20191124T180000
LOCATION:Rathaus\, Untergeschoss Unterhaching
DTSTAMP:20191124T150000
SUMMARY:Klamottentauschparty
URL;VALUE=URI:https://gruene-unterhaching.de/termin/klamottentauschparty-4/
DESCRIPTION:Im Unterhachinger Rathaus (großer Saal im Untergeschoss) kann wieder fröhlich gesichtet, probiert und getauscht werden. Frauen ab 16 Jahre dürfen bis zu 15 aktuelle Teile mitbringen und gegen modische Ware anderer Gäste eintauschen.
<div id="magicdomid9" class=""><span class="">Im Unterhachinger Rathaus (großer Saal im Untergeschoss) kann diesmal nicht nur der Kleiderschrankinhalt ertauscht werden, es gibt auch die Gelegenheit, die Grünen Kandidat*innen für den Gemeinderat und den Bürgermeisterkandidaten Armin Konetschny kennenzulernen.</span></div>
<div id="magicdomid10" class=""><span class=""> </span></div>
<div id="magicdomid11" class=""><span class="">„Mit der Kleidertauschparty haben wir in Unterhaching eine feste Tradition etabliert. Nachhaltigkeit macht Spaß, das wird hier ganz besonders deutlich“, so Armin Konetschny. </span></div>
Wie immer gibt es einen Begrüßungsdrink. Der Eintritt kostet 6 €, bei Voranmeldung - per Mail oder Telefon: 6113316 -  nur 5 €. Wer Zeit und Lust hat, beim Auf- und Abbau zu helfen, bekommt freien Eintritt. Wir bitten zur Organisation um eine kurze Mitteilung.

Viel Spaß beim Stöbern im Kleiderschrank!

<strong>So funktioniert's im Detail:</strong>

Bringe bis zu 15 Tauschteile (Kleidung, Accessoires, Schuhe, ... ) zur Tauschparty mit.

Die Teile müssen aktuell, sauber und ordentlich sein.

Du erhältst pro Teil einen Chip. Mit diesen Chips kannst du dann nach tollen anderen Teilen stöbern und tauschen. Bleiben dir zum Schluss Chips übrig, wird das Guthaben notiert und kann bei der nächsten  Tauschparty eingelöst werden, sofern die Ware reicht.

Am Ende der Tauschparty habt ihr aber auch die Möglichkeit, eure noch vorhandenen Teile gegen eure Chips wieder einzutauschen.

Nicht eingetauschte Kleidung wird einem guten Zweck zugeführt. Wir freuen uns, dass ihr den ideellen Charakter des Kleiderkreislaufs respektiert, der Spaß und Nachhaltigkeit bereitet und möglichst wenig Verwaltungsarbeit verursachen soll.
UID:20191124T150000-20191124T150000-20191124T180000
END:VEVENT
END:VCALENDAR