BEGIN:VCALENDAR
VERSION:2.0
PRODID:-//urwahl3000//gruene-unterhaching.de//DE
CALSCALE:GREGORIAN
BEGIN:VEVENT
DTSTART:20190505T150000
DTEND:20190505T180000
LOCATION:Rathaus Untergeschoss Unterhaching
DTSTAMP:20190505T150000
SUMMARY:Klamottentauschparty
URL;VALUE=URI:https://gruene-unterhaching.de/termin/klamottentauschparty-3/
DESCRIPTION:Im Unterhachinger Rathaus (großer Saal im Untergeschoss) kann am Sonntag, den 5. Mai ab 15.00 Uhr wieder fröhlich gesichtet, probiert und getauscht werden. Jede Person darf bis zu 15 aktuelle Teile mitbringen und gegen modische Ware anderer Gäste eintauschen.

Neben der Anprobe kann man mit Gemeinderätinnen ins Gespräch kommen und Fragen zur Politik in Unterhaching stellen. Der Eintritt zur Party (ab 16 Jahren) inklusive Begrüßungsdrink kostet 5,- Euro bei Voranmeldung oder 6,- Euro direkt am Nachmittag.

 

 

 

<strong> </strong>

 

 

 

 

 
UID:20190505T150000-20190505T150000-20190505T180000
END:VEVENT
END:VCALENDAR