BEGIN:VCALENDAR
VERSION:2.0
PRODID:-//urwahl3000//gruene-unterhaching.de//DE
CALSCALE:GREGORIAN
BEGIN:VEVENT
DTSTART:20190329T170000
DTEND:20190329T170000
LOCATION:Feuerwehr\, Leipziger Str. 9 
DTSTAMP:20190329T170000
SUMMARY:Jugendversammlung der Gemeinde Unterhaching
URL;VALUE=URI:https://gruene-unterhaching.de/termin/jugendversammlung-der-gemeinde-unterhaching/
DESCRIPTION:Wer ist eingeladen? Alle Jugendlichen aus Unterhaching zwischen 10 und 18 Jahren.

Worum geht es? Ergebnisse der letzten Jugendversammlung, Fragen an den Bürgermeister, Sicherheit und ehrenamtliches Engagement in Unterhaching
UID:20190329T170000-20190329T170000-20190329T170000
END:VEVENT
END:VCALENDAR