BEGIN:VCALENDAR
VERSION:2.0
PRODID:-//urwahl3000//gruene-unterhaching.de//DE
CALSCALE:GREGORIAN
BEGIN:VEVENT
DTSTART:20190508T193000
DTEND:20190508T193000
LOCATION:Rathaus Unterhaching Unterhaching
DTSTAMP:20190508T193000
SUMMARY:Jamila Schäfer: Kommt, wir bauen das neue Europa!
URL;VALUE=URI:https://gruene-unterhaching.de/termin/jamila-schaefer-kommt-wir-bauen-das-neue-europa/
DESCRIPTION:<div>
<div><span data-contrast="auto">Im Mai findet die Kreisversammlung von Bündnis90/Die Grünen im Landkreis München im Rathaus Unterhaching statt. Als Gast wird Jamila Schäfer erwartet. Als Mitglied des </span><span data-contrast="auto">Bundesvorstands und europapolitische Sprecherin macht sie sich für ein ökologisches, demokratisches und soziales Europa stark. Wir Grüne wollen Verantwortung übernehmen und Europa neu begründen. Ganz im Sinne des Slogans: Kommt, wir b</span><span data-contrast="auto">auen das neue Europa!</span></div>
<div></div>
</div>
<div><a href="https://www.gruene.de/ueber-uns/jamila-schaefer.html" target="_blank" rel="noopener noreferrer">https://www.gruene.de/ueber-uns/jamila-schaefer.html</a></div>
<div><a href="http://jamila-schaefer.de/" target="_blank" rel="noopener noreferrer">http://jamila-schaefer.de/</a></div>
UID:20190508T193000-20190508T193000-20190508T193000
END:VEVENT
END:VCALENDAR