BEGIN:VCALENDAR
VERSION:2.0
PRODID:-//urwahl3000//gruene-unterhaching.de//DE
CALSCALE:GREGORIAN
BEGIN:VEVENT
DTSTART:20171111T100000
DTEND:20171111T100000
LOCATION:Hofmarkweg Unterhaching
DTSTAMP:20171111T100000
SUMMARY:Infostand zum Volksbegehren „Betonflut eindämmen“
URL;VALUE=URI:https://gruene-unterhaching.de/termin/infostand-zum-volksbegehren-betonflut-eindaemmen/
UID:20171111T100000-20171111T100000-20171111T100000
END:VEVENT
END:VCALENDAR