BEGIN:VCALENDAR
VERSION:2.0
PRODID:-//urwahl3000//gruene-unterhaching.de//DE
CALSCALE:GREGORIAN
BEGIN:VEVENT
DTSTART:20190920T150000
DTEND:20190920T170000
LOCATION:Rathausplatz Unterhaching
DTSTAMP:20190920T150000
SUMMARY:Infostand zum Klimanotstand in Unterhaching
URL;VALUE=URI:https://gruene-unterhaching.de/termin/infostand-zum-klimanotstand-in-unterhaching/
DESCRIPTION:Der Freitag, 20.9., steht im Zeichen der Mahnung, endlich konsequent unser Klima zu schützen. Nach einer Kundgebung aus Anlass des Globalen Klimastreiks auf dem Münchener Königsplatz stellen die Grünen am Nachmittag in Unterhaching einen Antrag zur Ausrufung des Klimanotstands vor und bitten die Bürger*innen um Rückmeldung. Grünen-Mitglied Beate Gsänger, die den Antragsentwurf ausgearbeitet hat: "Es geht um die Sensibilisierung und die Umsetzung sämtlicher möglicher Maßnahmen vor Ort. Alles - unsere Mobilität, unser Einkaufsverhalten, unsere Ernährungsweise, unser Wohnungsbau, unser Umgang mit der Natur - muss darauf ausgerichtet werden, die Klimaerwärmung zu verlangsamen. Natürlich kann auch Unterhaching seinen Beitrag dazu leisten. Ich freue mich auf die Diskussion."

Ab 15.00 Uhr wird der Antragsentwurf auf dem Rathausplatz präsentiert. Er soll in der Folgewoche dann im Gemeinderat eingereicht werden.

 
UID:20190920T150000-20190920T150000-20190920T170000
END:VEVENT
END:VCALENDAR