BEGIN:VCALENDAR
VERSION:2.0
PRODID:-//urwahl3000//gruene-unterhaching.de//DE
CALSCALE:GREGORIAN
BEGIN:VEVENT
DTSTART:20180407T090000
DTEND:20180407T090000
LOCATION:Pflanzen-Kölle\, Unterhaching 
DTSTAMP:20180407T090000
SUMMARY:Infostand bienenfreundliche Bepflanzung
URL;VALUE=URI:https://gruene-unterhaching.de/termin/infostand-bienenfreundliche-bepflanzung/
DESCRIPTION:Pflanzen-Kölle, Parkackerstr. 2, 82008 Unterhaching, 9:00 bis 13:00 Uhr

Die Unterhachinger Grünen informieren darüber, wie man im eigenen Garten bienenfreundlich anpflanzen kann. Wer mag, bekommt ein Samentütchen mit bienenfreundlichem Samen - gratis (solange Vorrat reicht).

Fragen beantworten gerne: Landtagskandidatinnen <a href="http://claudia.koehler.fuer-die-gruenen.de/">Claudia Köhler</a> und <a href="http://sanne.fuer-die-gruenen.de/">Sanne Kurz</a>, Bezirktagskandidatinnen Frauke Schwaiblmaier und Petra Tuttas sowie Oliver Seth (Initiative "Blühender Landkreis" ) und Christoph Nadler (Fraktionsvorsitzender im Kreistag).
UID:20180407T090000-20180407T090000-20180407T090000
END:VEVENT
END:VCALENDAR