BEGIN:VCALENDAR
VERSION:2.0
PRODID:-//urwahl3000//gruene-unterhaching.de//DE
CALSCALE:GREGORIAN
BEGIN:VEVENT
DTSTART:20181013T100000
DTEND:20181013T130000
LOCATION:S-Bahnhöfe Unterhaching und Fasanenpark Unterhaching
DTSTAMP:20181013T100000
SUMMARY:Infostände zur Landtagswahl
URL;VALUE=URI:https://gruene-unterhaching.de/termin/infostaende-zur-landtagswahl/
UID:20181013T100000-20181013T100000-20181013T130000
END:VEVENT
END:VCALENDAR