BEGIN:VCALENDAR
VERSION:2.0
PRODID:-//urwahl3000//gruene-unterhaching.de//DE
CALSCALE:GREGORIAN
BEGIN:VEVENT
DTSTART:20190524T193000
DTEND:20190524T210000
LOCATION:Kulturzentrum Taufkirchen\, Köglweg 5 Taufkirchen
DTSTAMP:20190524T193000
SUMMARY:Grünes Kino: Wackersdorf
URL;VALUE=URI:https://gruene-unterhaching.de/termin/gruenes-kino-wackersdorf/
DESCRIPTION:https://gruene-ml.de/blog/termin/gruenes-kino-wackersdorf-2/
UID:20190524T193000-20190524T193000-20190524T210000
END:VEVENT
END:VCALENDAR