BEGIN:VCALENDAR
VERSION:2.0
PRODID:-//urwahl3000//gruene-unterhaching.de//DE
CALSCALE:GREGORIAN
BEGIN:VEVENT
DTSTART:20190705T180000
DTEND:20190705T180000
LOCATION:Festwiese im Ortspark 
DTSTAMP:20190705T180000
SUMMARY:Grüner Tisch am Bürgerfest
URL;VALUE=URI:https://gruene-unterhaching.de/termin/gruener-tisch-am-buergerfest/
DESCRIPTION:47. Unterhachinger Bürgerfest 5. bis 14. Juli 2019
UID:20190705T180000-20190705T180000-20190705T180000
END:VEVENT
END:VCALENDAR