BEGIN:VCALENDAR
VERSION:2.0
PRODID:-//urwahl3000//gruene-unterhaching.de//DE
CALSCALE:GREGORIAN
BEGIN:VEVENT
DTSTART:20230622T190000
DTEND:20230622T210000
LOCATION:S-Bahn Vorplatz Unterhaching Unterhaching
DTSTAMP:20230622T190000
SUMMARY:Grüne Radtour zu zentralen Orten für eine gelingende Mobilitätswende
URL;VALUE=URI:https://gruene-unterhaching.de/termin/gruene-radtour-zu-zentralen-orten-fuer-eine-gelingende-mobilitaetswende/
DESCRIPTION:https://gruene-unterhaching.de/2023/06/11/besser-unterwegs-in-unterhaching/
UID:20230622T190000-20230622T190000-20230622T210000
END:VEVENT
END:VCALENDAR