BEGIN:VCALENDAR
VERSION:2.0
PRODID:-//urwahl3000//gruene-unterhaching.de//DE
CALSCALE:GREGORIAN
BEGIN:VEVENT
DTSTART:20180510T130000
DTEND:20180510T130000
LOCATION:Marienplatz 
DTSTAMP:20180510T130000
SUMMARY:Großdemo München #NoPAG
URL;VALUE=URI:https://gruene-unterhaching.de/termin/grossdemo-nopag/
DESCRIPTION:13 - 16 Uhr

<a href="https://gruene-bayern.de/termin/grossdemo-nein-zum-neuen-polizeiaufgabengesetz/" target="_blank" rel="noopener">Großdemo: NEIN zum neuen Polizeiaufgabengesetz</a>

#NoPAG
UID:20180510T130000-20180510T130000-20180510T130000
END:VEVENT
END:VCALENDAR