BEGIN:VCALENDAR
VERSION:2.0
PRODID:-//urwahl3000//gruene-unterhaching.de//DE
CALSCALE:GREGORIAN
BEGIN:VEVENT
DTSTART:20180610T140000
DTEND:20180610T140000
LOCATION: 
DTSTAMP:20180610T140000
SUMMARY:Fahrrad-Aktionstag Grüne Neubiberg
URL;VALUE=URI:https://gruene-unterhaching.de/termin/fahrrad-aktionstag-gruene-neubiberg/
DESCRIPTION:Die Grünen Neubiberg laden ein:
Gemeinsam mit dem ADFC werden wir durch Neubiberg radeln, Gefahrenstellen und gute Lösungen für Radfahrer "abklappern" und die Tour im Biergarten Leiberheim ab ca. 16 Uhr ausklingen lassen. Treffpunkt um 14 Uhr: Rathaus Neubiberg
UID:20180610T140000-20180610T140000-20180610T140000
END:VEVENT
END:VCALENDAR